BEGIN:VCALENDAR
VERSION:2.0
PRODID:-//MUDr. Ivana Wurstová: Léčení přítomností - ECPv6.15.20//NONSGML v1.0//EN
CALSCALE:GREGORIAN
METHOD:PUBLISH
X-WR-CALNAME:MUDr. Ivana Wurstová: Léčení přítomností
X-ORIGINAL-URL:https://www.ivanawurstova.cz
X-WR-CALDESC:Akce na MUDr. Ivana Wurstová: Léčení přítomností
REFRESH-INTERVAL;VALUE=DURATION:PT1H
X-Robots-Tag:noindex
X-PUBLISHED-TTL:PT1H
BEGIN:VTIMEZONE
TZID:Europe/Prague
BEGIN:DAYLIGHT
TZOFFSETFROM:+0100
TZOFFSETTO:+0200
TZNAME:CEST
DTSTART:20250330T010000
END:DAYLIGHT
BEGIN:STANDARD
TZOFFSETFROM:+0200
TZOFFSETTO:+0100
TZNAME:CET
DTSTART:20251026T010000
END:STANDARD
BEGIN:DAYLIGHT
TZOFFSETFROM:+0100
TZOFFSETTO:+0200
TZNAME:CEST
DTSTART:20260329T010000
END:DAYLIGHT
BEGIN:STANDARD
TZOFFSETFROM:+0200
TZOFFSETTO:+0100
TZNAME:CET
DTSTART:20261025T010000
END:STANDARD
BEGIN:DAYLIGHT
TZOFFSETFROM:+0100
TZOFFSETTO:+0200
TZNAME:CEST
DTSTART:20270328T010000
END:DAYLIGHT
BEGIN:STANDARD
TZOFFSETFROM:+0200
TZOFFSETTO:+0100
TZNAME:CET
DTSTART:20271031T010000
END:STANDARD
END:VTIMEZONE
BEGIN:VEVENT
DTSTART;TZID=Europe/Prague:20260620T090000
DTEND;TZID=Europe/Prague:20260620T180000
DTSTAMP:20260425T155018
CREATED:20250311T091158Z
LAST-MODIFIED:20251206T121848Z
UID:1369-1781946000-1781978400@www.ivanawurstova.cz
SUMMARY:Léčení přítomností v České Třebové
DESCRIPTION:Zveme Vás na jednodenní seminář Léčení přítomností v České Třebové. \nKonstelace jsou vynikající metoda k nahlédnutí na vztah ke svým nejbližším. Rodičům\, dětem\, partnerovi\, kolegům i své nemoci. Jednoho dne přijde čas se podívat\, jak si stojíme ve vztahu sami k sobě. Tam je ta cesta. Pokud pohlédneme dospělým pohledem sami na sebe\, nemusíme se již ke svým životním dramatům vracet. Dospělý pohled na naše žití nás dovede k probuzení. Zjištění\, kde vlastně stojíme a proč.\nA z toho místa se začneme pohybovat. Proudem\, který nás ponese naším životem\, bez zákrutů a překážek. \n 
URL:https://www.ivanawurstova.cz/akce/leceni-pritomnosti_ct_2026_06/
CATEGORIES:Semináře
ATTACH;FMTTYPE=image/jpeg:https://www.ivanawurstova.cz/wp-content/uploads/2025/03/LA1_6720-Edit-scaled-e1765024259397.jpg
ORGANIZER;CN="Mas%C3%A1%C5%BEe %C5%A0ilarovi":MAILTO:masaze.anicka@seznam.cz
END:VEVENT
END:VCALENDAR